BEGIN:VCALENDAR
VERSION:2.0
PRODID:-//Multicultural Cumbria - ECPv6.15.20//NONSGML v1.0//EN
CALSCALE:GREGORIAN
METHOD:PUBLISH
X-ORIGINAL-URL:https://multiculturalcumbria.org.uk
X-WR-CALDESC:Events for Multicultural Cumbria
REFRESH-INTERVAL;VALUE=DURATION:PT1H
X-Robots-Tag:noindex
X-PUBLISHED-TTL:PT1H
BEGIN:VTIMEZONE
TZID:UTC
BEGIN:STANDARD
TZOFFSETFROM:+0000
TZOFFSETTO:+0000
TZNAME:UTC
DTSTART:20210101T000000
END:STANDARD
END:VTIMEZONE
BEGIN:VEVENT
DTSTART;TZID=UTC:20220507T100000
DTEND;TZID=UTC:20220507T110000
DTSTAMP:20260423T184548
CREATED:20220501T124946Z
LAST-MODIFIED:20220501T124947Z
UID:2430-1651917600-1651921200@multiculturalcumbria.org.uk
SUMMARY:Basketball for Asylum Seekers
DESCRIPTION:Come along to a basketball session with coach Mark Tolly. This event is part of our Men’s Sports Activity programme for asylum seekers.
URL:https://multiculturalcumbria.org.uk/event/basketball-for-asylum-seekers/
LOCATION:University of Cumbria – Sports Centre\, Fusehill Street\, CARLISLE\, CA1 2HH\, United Kingdom
CATEGORIES:Asylum Seekers,Men’s Sports Activity Programme
ATTACH;FMTTYPE=image/png:https://multiculturalcumbria.org.uk/wp-content/uploads/2022/04/mens-sports.png
END:VEVENT
BEGIN:VEVENT
DTSTART;TZID=UTC:20220507T110000
DTEND;TZID=UTC:20220507T120000
DTSTAMP:20260423T184548
CREATED:20220501T125251Z
LAST-MODIFIED:20220501T125439Z
UID:2433-1651921200-1651924800@multiculturalcumbria.org.uk
SUMMARY:Basketball for Asylum Seekers
DESCRIPTION:Come along to a basketball session with coach Mark Tolly. This event is part of our Men’s Sports Activity programme for asylum seekers.
URL:https://multiculturalcumbria.org.uk/event/basketball-for-asylum-seekers%ef%bf%bc/
LOCATION:University of Cumbria – Sports Centre\, Fusehill Street\, CARLISLE\, CA1 2HH\, United Kingdom
CATEGORIES:Asylum Seekers,Men’s Sports Activity Programme
ATTACH;FMTTYPE=image/png:https://multiculturalcumbria.org.uk/wp-content/uploads/2022/04/mens-sports.png
END:VEVENT
BEGIN:VEVENT
DTSTART;TZID=UTC:20220514T100000
DTEND;TZID=UTC:20220514T110000
DTSTAMP:20260423T184548
CREATED:20220501T125736Z
LAST-MODIFIED:20220501T125737Z
UID:2436-1652522400-1652526000@multiculturalcumbria.org.uk
SUMMARY:Basketball for Asylum Seekers
DESCRIPTION:Come along to a basketball session with coach Mark Tolly. This event is part of our Men’s Sports Activity programme for asylum seekers.
URL:https://multiculturalcumbria.org.uk/event/basketball-for-asylum-seekers-2/
LOCATION:University of Cumbria – Sports Centre\, Fusehill Street\, CARLISLE\, CA1 2HH\, United Kingdom
END:VEVENT
BEGIN:VEVENT
DTSTART;TZID=UTC:20220521T110000
DTEND;TZID=UTC:20220521T120000
DTSTAMP:20260423T184548
CREATED:20220501T130832Z
LAST-MODIFIED:20220501T130833Z
UID:2442-1653130800-1653134400@multiculturalcumbria.org.uk
SUMMARY:Basketball for Asylum Seekers
DESCRIPTION:Come along to a basketball session with coach Mark Tolly. This event is part of our Men’s Sports Activity programme for asylum seekers.
URL:https://multiculturalcumbria.org.uk/event/basketball-for-asylum-seekers-5/
LOCATION:University of Cumbria – Sports Centre\, Fusehill Street\, CARLISLE\, CA1 2HH\, United Kingdom
END:VEVENT
BEGIN:VEVENT
DTSTART;TZID=UTC:20220523T094500
DTEND;TZID=UTC:20220523T224500
DTSTAMP:20260423T184548
CREATED:20220523T092332Z
LAST-MODIFIED:20220523T092334Z
UID:3006-1653299100-1653345900@multiculturalcumbria.org.uk
SUMMARY:AGE UK: Tai Chi
DESCRIPTION:Join Age UK for a Tai Chi session. This event takes place every Monday.
URL:https://multiculturalcumbria.org.uk/event/age-uk-tai-chi/
LOCATION:Brampton Community Centre\, Union Ln\, Brampton\, Carlisle\, Cumbria\, CA8 1BX
CATEGORIES:Activity
ATTACH;FMTTYPE=image/png:https://multiculturalcumbria.org.uk/wp-content/uploads/2022/05/age-uk-logo-no-strap.png
END:VEVENT
BEGIN:VEVENT
DTSTART;TZID=UTC:20220523T103000
DTEND;TZID=UTC:20220523T113000
DTSTAMP:20260423T184548
CREATED:20220523T093902Z
LAST-MODIFIED:20220523T093903Z
UID:3019-1653301800-1653305400@multiculturalcumbria.org.uk
SUMMARY:AGE UK: Tai Chi
DESCRIPTION:Join Age UK for a Tai Chi session. This event takes place every Monday.
URL:https://multiculturalcumbria.org.uk/event/age-uk-tai-chi-3/
LOCATION:Longtown Community Centre\, Arthuret Rd\, Longtown\, Carlisle\, Cumbria\, CA6 5SJ
CATEGORIES:Activity
ATTACH;FMTTYPE=image/png:https://multiculturalcumbria.org.uk/wp-content/uploads/2022/05/age-uk-logo-no-strap.png
END:VEVENT
BEGIN:VEVENT
DTSTART;TZID=UTC:20220528T110000
DTEND;TZID=UTC:20220528T120000
DTSTAMP:20260423T184548
CREATED:20220501T131307Z
LAST-MODIFIED:20220526T043931Z
UID:2446-1653735600-1653739200@multiculturalcumbria.org.uk
SUMMARY:Basketball for Asylum Seekers
DESCRIPTION:Come along to a basketball session with coach Mark Tolly. This event is part of our Men’s Sports Activity programme for asylum seekers.
URL:https://multiculturalcumbria.org.uk/event/basketball-as/
LOCATION:University of Cumbria – Sports Centre\, Fusehill Street\, CARLISLE\, CA1 2HH\, United Kingdom
CATEGORIES:Asylum Seekers,Men’s Sports Activity Programme
ATTACH;FMTTYPE=image/jpeg:https://multiculturalcumbria.org.uk/wp-content/uploads/2022/05/pxfuel.com_.jpg
END:VEVENT
END:VCALENDAR