BEGIN:VCALENDAR
VERSION:2.0
PRODID:-//Multicultural Cumbria - ECPv6.15.20//NONSGML v1.0//EN
CALSCALE:GREGORIAN
METHOD:PUBLISH
X-ORIGINAL-URL:https://multiculturalcumbria.org.uk
X-WR-CALDESC:Events for Multicultural Cumbria
REFRESH-INTERVAL;VALUE=DURATION:PT1H
X-Robots-Tag:noindex
X-PUBLISHED-TTL:PT1H
BEGIN:VTIMEZONE
TZID:UTC
BEGIN:STANDARD
TZOFFSETFROM:+0000
TZOFFSETTO:+0000
TZNAME:UTC
DTSTART:20210101T000000
END:STANDARD
END:VTIMEZONE
BEGIN:VEVENT
DTSTART;TZID=UTC:20220810T103000
DTEND;TZID=UTC:20220810T120000
DTSTAMP:20260422T050150
CREATED:20220805T153755Z
LAST-MODIFIED:20220805T153849Z
UID:3319-1660127400-1660132800@multiculturalcumbria.org.uk
SUMMARY:English Club
DESCRIPTION:Come along to Penrith Library to practice your English language skills in a friendly\, welcoming environment. \n\n\n\nSessions include refreshments/snacks and board games.  \n\n\n\nAll ages are welcome. There will be crafts and games for children – so the little ones can come along too! \n\n\n\nThis event takes place every Wednesday.
URL:https://multiculturalcumbria.org.uk/event/english-club/
LOCATION:Penrith Library\, St Andrews Churchyard\, Penrith
ATTACH;FMTTYPE=image/jpeg:https://multiculturalcumbria.org.uk/wp-content/uploads/2022/08/295733370_10163626831019988_4701747315304486558_n.jpg
END:VEVENT
BEGIN:VEVENT
DTSTART;TZID=UTC:20220817T103000
DTEND;TZID=UTC:20220817T120000
DTSTAMP:20260422T050150
CREATED:20220805T154220Z
LAST-MODIFIED:20220805T154221Z
UID:3333-1660732200-1660737600@multiculturalcumbria.org.uk
SUMMARY:English Club
DESCRIPTION:Come along to Penrith Library to practice your English language skills in a friendly\, welcoming environment. \n\n\n\nSessions include refreshments/snacks and board games.  \n\n\n\nAll ages are welcome. There will be crafts and games for children – so the little ones can come along too! \n\n\n\nThis event takes place every Wednesday.
URL:https://multiculturalcumbria.org.uk/event/english-club-2/
LOCATION:Penrith Library\, St Andrews Churchyard\, Penrith
ATTACH;FMTTYPE=image/jpeg:https://multiculturalcumbria.org.uk/wp-content/uploads/2022/08/295733370_10163626831019988_4701747315304486558_n.jpg
END:VEVENT
BEGIN:VEVENT
DTSTART;TZID=UTC:20220824T103000
DTEND;TZID=UTC:20220824T120000
DTSTAMP:20260422T050150
CREATED:20220805T154658Z
LAST-MODIFIED:20220805T154659Z
UID:3340-1661337000-1661342400@multiculturalcumbria.org.uk
SUMMARY:English Club
DESCRIPTION:Come along to Penrith Library to practice your English language skills in a friendly\, welcoming environment. \n\n\n\nSessions include refreshments/snacks and board games.  \n\n\n\nAll ages are welcome. There will be crafts and games for children – so the little ones can come along too! \n\n\n\nThis event takes place every Wednesday.
URL:https://multiculturalcumbria.org.uk/event/english-club-3/
LOCATION:Penrith Library\, St Andrews Churchyard\, Penrith
ATTACH;FMTTYPE=image/jpeg:https://multiculturalcumbria.org.uk/wp-content/uploads/2022/08/295733370_10163626831019988_4701747315304486558_n.jpg
END:VEVENT
END:VCALENDAR