BEGIN:VCALENDAR
VERSION:2.0
PRODID:-//Multicultural Cumbria - ECPv6.15.20//NONSGML v1.0//EN
CALSCALE:GREGORIAN
METHOD:PUBLISH
X-WR-CALNAME:Multicultural Cumbria
X-ORIGINAL-URL:https://multiculturalcumbria.org.uk
X-WR-CALDESC:Events for Multicultural Cumbria
REFRESH-INTERVAL;VALUE=DURATION:PT1H
X-Robots-Tag:noindex
X-PUBLISHED-TTL:PT1H
BEGIN:VTIMEZONE
TZID:UTC
BEGIN:STANDARD
TZOFFSETFROM:+0000
TZOFFSETTO:+0000
TZNAME:UTC
DTSTART:20240101T000000
END:STANDARD
END:VTIMEZONE
BEGIN:VEVENT
DTSTART;TZID=UTC:20250218T150000
DTEND;TZID=UTC:20250218T170000
DTSTAMP:20260421T085543
CREATED:20250218T121810Z
LAST-MODIFIED:20250219T110559Z
UID:7255-1739890800-1739898000@multiculturalcumbria.org.uk
SUMMARY:Conversation Café
DESCRIPTION:Learn to speak English by having conversations and meeting new people.  For people who want to learn practical English that they can use in day to day life. \n\n\n\nArabic  – تعلم التحدث باللغة الإنجليزية من خلال إجراء المحادثات والتعرف على أشخاص جدد.  للأشخاص الذين يرغبون في تعلم اللغة الإنجليزية العملية التي يمكنهم استخدامها في الحياة اليومية. \n\n\n\nFarsi – د خبرو اترو او د نوي خلکو سره د لیدو له لارې انګلیسي خبرې کول زده کړئ.  د هغو خلکو لپاره چې غواړي عملي انګلیسي زده کړي چې دوی کولی شي په ورځني ژوند کې وکاروي. \n\n\n\nPersian – با مکالمه و ملاقات با افراد جدید، زبان انگلیسی را یاد بگیرید.  برای افرادی که می خواهند انگلیسی عملی را یاد بگیرند که می توانند در زندگی روزمره از آن استفاده کنند. \n\n\n\nTigrinya – ዕላል ብምግባርን ሓደስቲ ሰባት ብምርኻብን እንግሊዝኛ ምዝራብ ተማሃር።  ኣብ መዓልታዊ ህይወት ክጥቀሙሉ ዝኽእሉ ግብራዊ እንግሊዝኛ ክመሃሩ ንዝደልዩ ሰባት። \n\n\n\nDari – با داشتن مکالمات و ملاقات با مردم جدید یاد بگیرید که انگلیسی صحبت کنید.  برای مردم که میخواهند انگلیسی عملی یاد بگیرند که آنها میتوانند در زندگی روزمره استفاده کنند. \n\n\n\nMalayalam – സംഭാഷണങ്ങളിലൂടെയും പുതിയ ആളുകളെ കണ്ടുമുട്ടുന്നതിലൂടെയും ഇംഗ്ലീഷ് സംസാരിക്കാൻ പഠിക്കുക.  ദൈനംദിന ജീവിതത്തിൽ ഉപയോഗിക്കാൻ കഴിയുന്ന പ്രായോഗിക ഇംഗ്ലീഷ് പഠിക്കാൻ ആഗ്രഹിക്കുന്ന ആളുകൾക്ക്. \n\n\n\nChinese – 通过对话和结识新朋友来学习说英语。  适合那些想要学习可以在日常生活中使用的实用英语的人。 \n\n\n\nNepali – कुराकानी गरेर र नयाँ मानिसहरूलाई भेटेर अंग्रेजी बोल्न सिक्नुहोस्।  तिनीहरूले दैनिक जीवनमा प्रयोग गर्न सक्ने व्यावहारिक अंग्रेजी सिक्न चाहने व्यक्तिहरूको लागि।
URL:https://multiculturalcumbria.org.uk/event/conversation-cafe/
LOCATION:Cornerstone Café\, 62-66 Denton St\,\, Carlisle\, Cumbria\, CA2 5EH\, United Kingdom
CATEGORIES:Community Events
ORGANIZER;CN="Multicultural Cumbria":MAILTO:info@multiculturalcumbria.org.uk
END:VEVENT
END:VCALENDAR