BEGIN:VCALENDAR
VERSION:2.0
PRODID:-//Multicultural Cumbria - ECPv6.15.20//NONSGML v1.0//EN
CALSCALE:GREGORIAN
METHOD:PUBLISH
X-WR-CALNAME:Multicultural Cumbria
X-ORIGINAL-URL:https://multiculturalcumbria.org.uk
X-WR-CALDESC:Events for Multicultural Cumbria
REFRESH-INTERVAL;VALUE=DURATION:PT1H
X-Robots-Tag:noindex
X-PUBLISHED-TTL:PT1H
BEGIN:VTIMEZONE
TZID:UTC
BEGIN:STANDARD
TZOFFSETFROM:+0000
TZOFFSETTO:+0000
TZNAME:UTC
DTSTART:20230101T000000
END:STANDARD
END:VTIMEZONE
BEGIN:VEVENT
DTSTART;TZID=UTC:20241121T140000
DTEND;TZID=UTC:20241121T160000
DTSTAMP:20260423T134309
CREATED:20241113T121645Z
LAST-MODIFIED:20241113T121646Z
UID:6900-1732197600-1732204800@multiculturalcumbria.org.uk
SUMMARY:Big World Music Workshop
DESCRIPTION:All diaspora\, refugees and those seeking asylum are welcome to join in the Big World Music Workshop with Music Links. No musical  experience needed\, just come along and enjoy joining in\, with snacks and coffee available.
URL:https://multiculturalcumbria.org.uk/event/big-world-music-workshop/
LOCATION:Currock Community Centre\, Lediard Avenue\, Carlisle\, CA2 4BS
CATEGORIES:Activity,Asylum Seekers,Community Events,PROJECTS
ATTACH;FMTTYPE=application/pdf:https://multiculturalcumbria.org.uk/wp-content/uploads/2024/11/Big-World-Music-MusicLinks-Poster.pdf
END:VEVENT
END:VCALENDAR