BEGIN:VCALENDAR
VERSION:2.0
PRODID:-//Multicultural Cumbria - ECPv6.15.20//NONSGML v1.0//EN
CALSCALE:GREGORIAN
METHOD:PUBLISH
X-WR-CALNAME:Multicultural Cumbria
X-ORIGINAL-URL:https://multiculturalcumbria.org.uk
X-WR-CALDESC:Events for Multicultural Cumbria
REFRESH-INTERVAL;VALUE=DURATION:PT1H
X-Robots-Tag:noindex
X-PUBLISHED-TTL:PT1H
BEGIN:VTIMEZONE
TZID:UTC
BEGIN:STANDARD
TZOFFSETFROM:+0000
TZOFFSETTO:+0000
TZNAME:UTC
DTSTART:20210101T000000
END:STANDARD
END:VTIMEZONE
BEGIN:VEVENT
DTSTART;TZID=UTC:20220702T000000
DTEND;TZID=UTC:20220702T235959
DTSTAMP:20260425T123946
CREATED:20220523T095251Z
LAST-MODIFIED:20220523T095752Z
UID:3025-1656720000-1656806399@multiculturalcumbria.org.uk
SUMMARY:Barrow-in-Furness Unity Festival
DESCRIPTION:Cumbria Unity Festival celebrates the strengths and diversity of the people of Cumbria by building community cohesion\, advancing equality & social integration. \n\n\n\nThe annual Cumbria Unity Festival will take place between the 18th of June and the 16th of July 2022. It will be a hybrid event – mostly in person and partly online. \n\n\n\nThe theme this year will be “Healing Together”. All invited! \n\n\n\nThe event will take place in Barrow City Centre at the Coast Roads Festival.
URL:https://multiculturalcumbria.org.uk/event/barrow-in-furness-unity-festival/
LOCATION:Cumbria
CATEGORIES:Community Events
END:VEVENT
BEGIN:VEVENT
DTSTART;TZID=UTC:20220702T000000
DTEND;TZID=UTC:20220702T235959
DTSTAMP:20260425T123946
CREATED:20220523T095657Z
LAST-MODIFIED:20220523T095659Z
UID:3029-1656720000-1656806399@multiculturalcumbria.org.uk
SUMMARY:West Cumbria Unity Festival
DESCRIPTION:Cumbria Unity Festival celebrates the strengths and diversity of the people of Cumbria by building community cohesion\, advancing equality & social integration. \n\n\n\nThe annual Cumbria Unity Festival will take place between the 18th of June and the 16th of July 2022. It will be a hybrid event – mostly in person and partly online. \n\n\n\nThe theme this year will be “Healing Together”. All invited! \n\n\n\nThis event will take place in Whitehaven.
URL:https://multiculturalcumbria.org.uk/event/west-cumbria-unity-festival/
LOCATION:Cumbria
CATEGORIES:Community Events
END:VEVENT
BEGIN:VEVENT
DTSTART;TZID=UTC:20220716T000000
DTEND;TZID=UTC:20220716T235959
DTSTAMP:20260425T123946
CREATED:20220523T095914Z
LAST-MODIFIED:20220523T095915Z
UID:3032-1657929600-1658015999@multiculturalcumbria.org.uk
SUMMARY:Carlisle Unity Festival
DESCRIPTION:Cumbria Unity Festival celebrates the strengths and diversity of the people of Cumbria by building community cohesion\, advancing equality & social integration. \n\n\n\nThe annual Cumbria Unity Festival will take place between the 18th of June and the 16th of July 2022. It will be a hybrid event – mostly in person and partly online. \n\n\n\nThe theme this year will be “Healing Together”. All invited! \n\n\n\nThis event will take place in Carlisle City Centre.
URL:https://multiculturalcumbria.org.uk/event/carlisle-unity-festival/
LOCATION:Cumbria
CATEGORIES:Community Events
END:VEVENT
END:VCALENDAR